BEGIN:VCALENDAR
VERSION:2.0
PRODID:-//Atherton Tableland Chamber of Commerce Inc - ECPv6.15.20//NONSGML v1.0//EN
CALSCALE:GREGORIAN
METHOD:PUBLISH
X-ORIGINAL-URL:https://athertonchamber.com.au
X-WR-CALDESC:Events for Atherton Tableland Chamber of Commerce Inc
REFRESH-INTERVAL;VALUE=DURATION:PT1H
X-Robots-Tag:noindex
X-PUBLISHED-TTL:PT1H
BEGIN:VTIMEZONE
TZID:Australia/Brisbane
BEGIN:STANDARD
TZOFFSETFROM:+1000
TZOFFSETTO:+1000
TZNAME:AEST
DTSTART:20240101T000000
END:STANDARD
END:VTIMEZONE
BEGIN:VEVENT
DTSTART;TZID=Australia/Brisbane:20251212T170000
DTEND;TZID=Australia/Brisbane:20251212T170000
DTSTAMP:20260421T033840
CREATED:20251020T060901Z
LAST-MODIFIED:20251205T231807Z
UID:1599-1765558800-1765558800@athertonchamber.com.au
SUMMARY:ATCC Networking Event
DESCRIPTION:
URL:https://athertonchamber.com.au/event/2025-12-event/
LOCATION:Billycart Brewing Co\, 65 Tolga Road\, Atherton\, QLD\, 4880\, Australia
CATEGORIES:ATCC event
ATTACH;FMTTYPE=image/png:https://athertonchamber.com.au/wp-content/uploads/2025/10/2025-12-ATCC-Networking.png
END:VEVENT
END:VCALENDAR