BEGIN:VCALENDAR
VERSION:2.0
PRODID:-//Atherton Tableland Chamber of Commerce Inc - ECPv6.15.20//NONSGML v1.0//EN
CALSCALE:GREGORIAN
METHOD:PUBLISH
X-ORIGINAL-URL:https://athertonchamber.com.au
X-WR-CALDESC:Events for Atherton Tableland Chamber of Commerce Inc
REFRESH-INTERVAL;VALUE=DURATION:PT1H
X-Robots-Tag:noindex
X-PUBLISHED-TTL:PT1H
BEGIN:VTIMEZONE
TZID:Australia/Brisbane
BEGIN:STANDARD
TZOFFSETFROM:+1000
TZOFFSETTO:+1000
TZNAME:AEST
DTSTART:20250101T000000
END:STANDARD
END:VTIMEZONE
BEGIN:VEVENT
DTSTART;TZID=Australia/Brisbane:20260710T173000
DTEND;TZID=Australia/Brisbane:20260710T190000
DTSTAMP:20260421T002018
CREATED:20251211T221302Z
LAST-MODIFIED:20260315T233342Z
UID:2034-1783704600-1783710000@athertonchamber.com.au
SUMMARY:ATCC Networking Event
DESCRIPTION:
URL:https://athertonchamber.com.au/event/atcc-networking-event/
LOCATION:Venue to be confirmed
CATEGORIES:ATCC event
ATTACH;FMTTYPE=image/png:https://athertonchamber.com.au/wp-content/uploads/2025/12/2026-07-ATCC-Networking-event.png
END:VEVENT
END:VCALENDAR