BEGIN:VCALENDAR
VERSION:2.0
PRODID:-//Atherton Tableland Chamber of Commerce Inc - ECPv6.15.20//NONSGML v1.0//EN
CALSCALE:GREGORIAN
METHOD:PUBLISH
X-WR-CALNAME:Atherton Tableland Chamber of Commerce Inc
X-ORIGINAL-URL:https://athertonchamber.com.au
X-WR-CALDESC:Events for Atherton Tableland Chamber of Commerce Inc
REFRESH-INTERVAL;VALUE=DURATION:PT1H
X-Robots-Tag:noindex
X-PUBLISHED-TTL:PT1H
BEGIN:VTIMEZONE
TZID:Australia/Brisbane
BEGIN:STANDARD
TZOFFSETFROM:+1000
TZOFFSETTO:+1000
TZNAME:AEST
DTSTART:20250101T000000
END:STANDARD
END:VTIMEZONE
BEGIN:VEVENT
DTSTART;TZID=Australia/Brisbane:20260116T173000
DTEND;TZID=Australia/Brisbane:20260116T193000
DTSTAMP:20260421T002738
CREATED:20251205T232622Z
LAST-MODIFIED:20260109T221021Z
UID:1988-1768584600-1768591800@athertonchamber.com.au
SUMMARY:ATCC General Meeting
DESCRIPTION:Register your attendance:
URL:https://athertonchamber.com.au/event/2026-01-general-meeting/
LOCATION:Tableland Community Link\, 11 Grove Street\, Atherton
CATEGORIES:ATCC event
ATTACH;FMTTYPE=image/png:https://athertonchamber.com.au/wp-content/uploads/2025/12/2026-01-ATCC-General-Meetingv2.png
END:VEVENT
END:VCALENDAR